BEGIN:VCALENDAR
CALSCALE:GREGORIAN
X-WR-TIMEZONE;VALUE=TEXT:GMT
PRODID:PEAK Corporation - piCal -
X-WR-CALNAME;VALUE=TEXT:第８回太子町凧あげ大会
VERSION:2.0
METHOD:PUBLISH
BEGIN:VTIMEZONE
TZID:GMT
BEGIN:STANDARD
DTSTART:19390101T000000
TZOFFSETFROM:+0000
TZOFFSETTO:+0000
TZNAME:GMT
END:STANDARD
END:VTIMEZONE
BEGIN:VEVENT
DTSTART:20120129T030000Z
DTEND:20120129T063000Z
LOCATION:陸上競技場（太子町佐用岡２４６−１）
TRANSP:OPAQUE
SEQUENCE:0
UID:pical060-b2625811f00ce90e44ade3213313af7d
DTSTAMP:20120104T044629Z
CATEGORIES:イベント
DESCRIPTION:中学生以下の方対象の手づくり凧コンテスト。\n参加費は無料、当日ご応募ください。\n小学生低学年以下は保護者同伴のこと。\n婦人会手作りの甘酒が無料でふるまわれます。\n\n
SUMMARY:第８回太子町凧あげ大会
PRIORITY:0
CLASS:PUBLIC
END:VEVENT
END:VCALENDAR
