BEGIN:VCALENDAR
CALSCALE:GREGORIAN
X-WR-TIMEZONE;VALUE=TEXT:GMT
PRODID:PEAK Corporation - piCal -
X-WR-CALNAME;VALUE=TEXT:しの笛入門教室〜赤穂文化会館ハーモニーホール　
VERSION:2.0
METHOD:PUBLISH
BEGIN:VTIMEZONE
TZID:GMT
BEGIN:STANDARD
DTSTART:19390101T000000
TZOFFSETFROM:+0000
TZOFFSETTO:+0000
TZNAME:GMT
END:STANDARD
END:VTIMEZONE
BEGIN:VEVENT
DTSTART:20060428T050000Z
DTEND:20060428T063000Z
LOCATION:赤穂市文化会館ハーモニーホール
TRANSP:OPAQUE
SEQUENCE:3
UID:pical060-53e80235417b223cdb68562f2c0ff432
DTSTAMP:20060425T004905Z
CATEGORIES:
DESCRIPTION:しの笛は日本古来の竹の横笛です。\n澄んだ音色と奥深い響きは心を癒します。\n初めての方を対象に、笛の持ち方、音の出し方から、\n懐かしい童謡・わらべうた、美しい唱歌・抒情歌、\n楽しい民謡・・・などグループで楽しくお稽古します。\n\n４月２８日（金）１４：：００〜１５：３０\n赤穂市文化会館ハーモニーホール\n講座費用　￥２０００（教材費別途）\n定員２０名　当日受付可\n問い合わせ、申し込み　播州しの笛指南所\nTEL&amp;FAX ０７９−２２３−３２７５\<a href="mailto:nyt-muse@bird.biglobe.ne.jp\n">nyt-muse@bird.biglobe.ne.jp\n</a><a href="http://nakaharima.jp/mypage/kazenone" target="_blank">しの笛　風の音</a>\n城山如水<a href="http://blog.so-net.ne.jp/aoitori" target="_blank">しの笛の四季</a>\n毎月第４金曜日開催　入会随時　
SUMMARY:しの笛入門教室〜赤穂文化会館ハーモニーホール　
PRIORITY:0
CLASS:PUBLIC
END:VEVENT
END:VCALENDAR
