BEGIN:VCALENDAR
CALSCALE:GREGORIAN
X-WR-TIMEZONE;VALUE=TEXT:GMT
PRODID:PEAK Corporation - piCal -
X-WR-CALNAME;VALUE=TEXT:佐用町合併祈念第１回町民ゴルフ大会
VERSION:2.0
METHOD:PUBLISH
BEGIN:VTIMEZONE
TZID:GMT
BEGIN:STANDARD
DTSTART:19390101T000000
TZOFFSETFROM:+0000
TZOFFSETTO:+0000
TZNAME:GMT
END:STANDARD
END:VTIMEZONE
BEGIN:VEVENT
DTSTART:20060506T230000Z
DTEND:20060507T080000Z
LOCATION:佐用ゴルフ倶楽部
TRANSP:OPAQUE
SEQUENCE:0
UID:pical060-6a98512885ce443a2ac627b1781fce43
DTSTAMP:20060417T132708Z
CATEGORIES:イベント
DESCRIPTION:
SUMMARY:佐用町合併祈念第１回町民ゴルフ大会
PRIORITY:0
CLASS:PUBLIC
END:VEVENT
END:VCALENDAR
