BEGIN:VCALENDAR
CALSCALE:GREGORIAN
X-WR-TIMEZONE;VALUE=TEXT:GMT
PRODID:PEAK Corporation - piCal -
X-WR-CALNAME;VALUE=TEXT:たつの市議会議員選挙
VERSION:2.0
METHOD:PUBLISH
BEGIN:VTIMEZONE
TZID:GMT
BEGIN:STANDARD
DTSTART:19390101T000000
TZOFFSETFROM:+0000
TZOFFSETTO:+0000
TZNAME:GMT
END:STANDARD
END:VTIMEZONE
BEGIN:VEVENT
DTSTART:20060422T220000Z
DTEND:20060423T110000Z
LOCATION:
TRANSP:OPAQUE
SEQUENCE:0
UID:pical060-b566782cc23824820a65c686a7ae6b6a
DTSTAMP:20060417T124824Z
CATEGORIES:公的行事
DESCRIPTION:
SUMMARY:たつの市議会議員選挙
PRIORITY:0
CLASS:PUBLIC
END:VEVENT
END:VCALENDAR
