BEGIN:VCALENDAR
CALSCALE:GREGORIAN
X-WR-TIMEZONE;VALUE=TEXT:GMT
PRODID:PEAK Corporation - piCal -
X-WR-CALNAME;VALUE=TEXT:春の自然観察の森 クイズ＆ウォーク
VERSION:2.0
METHOD:PUBLISH
BEGIN:VTIMEZONE
TZID:GMT
BEGIN:STANDARD
DTSTART:19390101T000000
TZOFFSETFROM:+0000
TZOFFSETTO:+0000
TZNAME:GMT
END:STANDARD
END:VTIMEZONE
BEGIN:VEVENT
DTSTART:20060430T010000Z
DTEND:20060430T060000Z
LOCATION:姫路市自然観察の森
TRANSP:OPAQUE
SEQUENCE:0
UID:pical060-345f24737aecd0cd834b593727d2255c
DTSTAMP:20060414T151942Z
CATEGORIES:イベント
DESCRIPTION:森の散策路を歩きながら、自然に関するクイズにチャレンジ\n\n当日センター受付でだれでも参加できます（ただし小学生以下は保護者同伴）\n\n<a href="http://www.e-harima.com/modules/weblinks/visit.php?lid=504" target="_blank">姫路市自然観察の森</a>
SUMMARY:春の自然観察の森 クイズ＆ウォーク
PRIORITY:0
CLASS:PUBLIC
END:VEVENT
END:VCALENDAR
