BEGIN:VCALENDAR
CALSCALE:GREGORIAN
X-WR-TIMEZONE;VALUE=TEXT:GMT
PRODID:PEAK Corporation - piCal -
X-WR-CALNAME;VALUE=TEXT:しんぐう楽市楽座
VERSION:2.0
METHOD:PUBLISH
BEGIN:VTIMEZONE
TZID:GMT
BEGIN:STANDARD
DTSTART:19390101T000000
TZOFFSETFROM:+0000
TZOFFSETTO:+0000
TZNAME:GMT
END:STANDARD
END:VTIMEZONE
BEGIN:VEVENT
DTSTART:20060423T010000Z
DTEND:20060423T060000Z
LOCATION:たつの市新宮総合センター駐車場
TRANSP:OPAQUE
SEQUENCE:0
UID:pical060-941fb9561a9dc376f56efd9c60494341
DTSTAMP:20060405T134137Z
CATEGORIES:イベント
DESCRIPTION:西播磨地区の商工会・商工会議所青年部が集って物産展を開催し、大道芸・マグロ解体・わくわく商店街・福引等のイベントが行われます。
SUMMARY:しんぐう楽市楽座
PRIORITY:0
CLASS:PUBLIC
END:VEVENT
END:VCALENDAR
