BEGIN:VCALENDAR
CALSCALE:GREGORIAN
X-WR-TIMEZONE;VALUE=TEXT:GMT
PRODID:PEAK Corporation - piCal -
X-WR-CALNAME;VALUE=TEXT:かんざき桜の山・桜華園　さくらまつり
VERSION:2.0
METHOD:PUBLISH
BEGIN:VTIMEZONE
TZID:GMT
BEGIN:STANDARD
DTSTART:19390101T000000
TZOFFSETFROM:+0000
TZOFFSETTO:+0000
TZNAME:GMT
END:STANDARD
END:VTIMEZONE
BEGIN:VEVENT
DTSTART:20060416T010000Z
DTEND:20060416T060000Z
LOCATION:かんざき桜の山・桜華園
TRANSP:OPAQUE
SEQUENCE:0
UID:pical060-382548d2454bd0b57fc86ca1eebcf463
DTSTAMP:20060317T112622Z
CATEGORIES:イベント
DESCRIPTION:オカリナ、草笛、三味線、琴等の野外ステージとお茶席、特産品等のバザー
SUMMARY:かんざき桜の山・桜華園　さくらまつり
PRIORITY:0
CLASS:PUBLIC
END:VEVENT
END:VCALENDAR
