BEGIN:VCALENDAR
CALSCALE:GREGORIAN
X-WR-TIMEZONE;VALUE=TEXT:GMT
PRODID:PEAK Corporation - piCal -
X-WR-CALNAME;VALUE=TEXT:西播磨男女共同参画フォーラム
VERSION:2.0
METHOD:PUBLISH
BEGIN:VTIMEZONE
TZID:GMT
BEGIN:STANDARD
DTSTART:19390101T000000
TZOFFSETFROM:+0000
TZOFFSETTO:+0000
TZNAME:GMT
END:STANDARD
END:VTIMEZONE
BEGIN:VEVENT
DTSTART:20050122T040000Z
DTEND:20050122T063000Z
LOCATION:県立先端科学技術支援センター　大ホール
TRANSP:OPAQUE
SEQUENCE:1
UID:pical060-8e3e5b8a67933db50f5064b1ca9059d1
DTSTAMP:20041228T045905Z
CATEGORIES:イベント
DESCRIPTION:「男女共同参画とリッツカールトンにおける人材採用・育成のプロセス」と題してザ・リッツカールトン・ホテル日本支社長の高野　登　氏の講演
SUMMARY:西播磨男女共同参画フォーラム
PRIORITY:0
CLASS:PUBLIC
END:VEVENT
END:VCALENDAR
